BEGIN:VCALENDAR
VERSION:2.0
PRODID:-//JAZZclub IN DER MITTE e.V. - ECPv6.15.20//NONSGML v1.0//EN
CALSCALE:GREGORIAN
METHOD:PUBLISH
X-ORIGINAL-URL:https://jazzindermitte.de
X-WR-CALDESC:Veranstaltungen für JAZZclub IN DER MITTE e.V.
REFRESH-INTERVAL;VALUE=DURATION:PT1H
X-Robots-Tag:noindex
X-PUBLISHED-TTL:PT1H
BEGIN:VTIMEZONE
TZID:Europe/Berlin
BEGIN:DAYLIGHT
TZOFFSETFROM:+0100
TZOFFSETTO:+0200
TZNAME:CEST
DTSTART:20250330T010000
END:DAYLIGHT
BEGIN:STANDARD
TZOFFSETFROM:+0200
TZOFFSETTO:+0100
TZNAME:CET
DTSTART:20251026T010000
END:STANDARD
BEGIN:DAYLIGHT
TZOFFSETFROM:+0100
TZOFFSETTO:+0200
TZNAME:CEST
DTSTART:20260329T010000
END:DAYLIGHT
BEGIN:STANDARD
TZOFFSETFROM:+0200
TZOFFSETTO:+0100
TZNAME:CET
DTSTART:20261025T010000
END:STANDARD
BEGIN:DAYLIGHT
TZOFFSETFROM:+0100
TZOFFSETTO:+0200
TZNAME:CEST
DTSTART:20270328T010000
END:DAYLIGHT
BEGIN:STANDARD
TZOFFSETFROM:+0200
TZOFFSETTO:+0100
TZNAME:CET
DTSTART:20271031T010000
END:STANDARD
END:VTIMEZONE
BEGIN:VEVENT
DTSTART;TZID=Europe/Berlin:20260516T200000
DTEND;TZID=Europe/Berlin:20260516T230000
DTSTAMP:20260425T145001
CREATED:20260209T150344Z
LAST-MODIFIED:20260215T124614Z
UID:10000683-1778961600-1778972400@jazzindermitte.de
SUMMARY:DAVID GIESEL QUARTETT
DESCRIPTION:David Giesel präsentiert mit seinem Quartet zeitgenössischen Jazz voller Energie\, Offenheit und lebendiger Dynamik. Die vier Musiker aus Deutschland\, England und Schweden bringen ihre individuellen Stimmen in einen Sound ein\, der tief im Jazz verwurzelt ist\, aber auch Elemente aus Rock- und Indie-Ästhetiken aufgreift. Mit ihrem Debütalbum Echoes of the Unknown legt das Quartet ein klares erstes Statement vor – eine Musik\, die von Groove\, feinen Klangfarben und Präsenz lebt. \nIm Zentrum steht David Giesel – nicht nur als Schlagzeuger\, sondern ebenso als Komponist. Seine Musik überzeugt vor allem durch eingängige\, prägnante Melodien\, die den klanglichen Rahmen der Band definieren. Die Kompositionen verbinden moderne Harmonien mit klaren Grooves und übersichtlichen formalen Ideen\, ohne die Musik einzuengen. Statt auf Überkomplexität setzt Giesel bewusst auf Reduktion und Transparenz – auf Räume\, in denen Interaktion\, Spontaneität und Vertrauen entscheidend sind. Die Musik lebt vom Dialog der Musiker und vom Mut\, Kontrolle loszulassen. \nDas David Giesel Quartet wurde in die Next Generation-Reihe von Jazzthing und Double Moon Records aufgenommen. Echoes of the Unknown versteht sich als Momentaufnahme eines gemeinsamen Weges – strukturiert und zugleich offen\, emotional und dennoch klar. Live entfaltet die Musik ihre volle Wirkung durch Präsenz\, Spannung und ein spürbares Miteinander. Das Album erscheint offiziell am 29.05.2026\, CDs werden allerdings schon beim Konzert in Reutlingen verfügbar sein. \nBesetzung:\nMoritz Langmaier (p)\nAlbin Ormegard (git)\nThomas Fuller (b)\nDavid Giesel (dr) \nEintritt 19 € / Mitglieder 12 € / Schüler:innen\, Studierende 5 € \n \nHomepage David Giesel
URL:https://jazzindermitte.de/veranstaltung/david-giesel-quartett
LOCATION:IN DER MITTE\, Gartenstraße 36\, Reutlingen\, 72764\, Deutschland
ATTACH;FMTTYPE=image/jpeg:https://jazzindermitte.de/wp-content/uploads/2026/02/260516-David-Giesel-Quartett-c-Nikolai-Olschansky-mit-credit-scaled-e1770649306160.jpg
ORGANIZER;CN="JAZZclub IN DER MITTE":MAILTO:info@jazzindermitte.de
END:VEVENT
END:VCALENDAR