BEGIN:VCALENDAR
VERSION:2.0
PRODID:-//JAZZclub IN DER MITTE e.V. - ECPv6.15.20//NONSGML v1.0//EN
CALSCALE:GREGORIAN
METHOD:PUBLISH
X-ORIGINAL-URL:https://jazzindermitte.de
X-WR-CALDESC:Veranstaltungen für JAZZclub IN DER MITTE e.V.
REFRESH-INTERVAL;VALUE=DURATION:PT1H
X-Robots-Tag:noindex
X-PUBLISHED-TTL:PT1H
BEGIN:VTIMEZONE
TZID:Europe/Berlin
BEGIN:DAYLIGHT
TZOFFSETFROM:+0100
TZOFFSETTO:+0200
TZNAME:CEST
DTSTART:20250330T010000
END:DAYLIGHT
BEGIN:STANDARD
TZOFFSETFROM:+0200
TZOFFSETTO:+0100
TZNAME:CET
DTSTART:20251026T010000
END:STANDARD
BEGIN:DAYLIGHT
TZOFFSETFROM:+0100
TZOFFSETTO:+0200
TZNAME:CEST
DTSTART:20260329T010000
END:DAYLIGHT
BEGIN:STANDARD
TZOFFSETFROM:+0200
TZOFFSETTO:+0100
TZNAME:CET
DTSTART:20261025T010000
END:STANDARD
BEGIN:DAYLIGHT
TZOFFSETFROM:+0100
TZOFFSETTO:+0200
TZNAME:CEST
DTSTART:20270328T010000
END:DAYLIGHT
BEGIN:STANDARD
TZOFFSETFROM:+0200
TZOFFSETTO:+0100
TZNAME:CET
DTSTART:20271031T010000
END:STANDARD
END:VTIMEZONE
BEGIN:VEVENT
DTSTART;TZID=Europe/Berlin:20260411T200000
DTEND;TZID=Europe/Berlin:20260411T230000
DTSTAMP:20260425T142630
CREATED:20251102T110308Z
LAST-MODIFIED:20260215T110135Z
UID:10000660-1775937600-1775948400@jazzindermitte.de
SUMMARY:JAZZfrühling | LINDA KYEI SWING COMBO
DESCRIPTION:Linda Kyei hat sämtliche Hochkaräter der jungen Stuttgarter Swingszene um sich versammelt und präsentiert seit 2016 ihre Swing Combo. Im Sextett zelebrieren sie den warmen\, knisternden\, intensiven\, aber immer locker hüpfenden und natürlich tanzbaren Sound der schönen alten Zeit. Mit gekonnt umgesetzten eigenen Arrangements berühmter Titel u.a. von Chick Webb\, Duke Ellington\, Count Basie oder Jimmie Luncefort hat die Swing Combo einen unverwechselbaren Bandsound entwickelt\, der sie bereits auf diverse Tanzfestivals gebracht hat. \nBesetzung:\nLinda Kyei (voc\, vl)\nSascha Kommer (p)\nSteffen Hollenweger (b)\nAndreas Schäfer (git)\nAndreas Zbik (dr)\nCarsten Netz (sax\, cl) \nEintritt 22 € / Mitglieder 15 € / Schüler:innen\, Studierende 5 €
URL:https://jazzindermitte.de/veranstaltung/linda-kyei-swing-combo
LOCATION:IN DER MITTE\, Gartenstraße 36\, Reutlingen\, 72764\, Deutschland
ATTACH;FMTTYPE=image/webp:https://jazzindermitte.de/wp-content/uploads/2025/11/260411-Linda-Kyei-Swing-Combo-c-Studio-dAletti-mit-credit-e1767099695524.webp
ORGANIZER;CN="JAZZclub IN DER MITTE":MAILTO:info@jazzindermitte.de
END:VEVENT
END:VCALENDAR