BEGIN:VCALENDAR
VERSION:2.0
PRODID:-//JAZZclub IN DER MITTE e.V. - ECPv6.15.20//NONSGML v1.0//EN
CALSCALE:GREGORIAN
METHOD:PUBLISH
X-ORIGINAL-URL:https://jazzindermitte.de
X-WR-CALDESC:Veranstaltungen für JAZZclub IN DER MITTE e.V.
REFRESH-INTERVAL;VALUE=DURATION:PT1H
X-Robots-Tag:noindex
X-PUBLISHED-TTL:PT1H
BEGIN:VTIMEZONE
TZID:Europe/Berlin
BEGIN:DAYLIGHT
TZOFFSETFROM:+0100
TZOFFSETTO:+0200
TZNAME:CEST
DTSTART:20250330T010000
END:DAYLIGHT
BEGIN:STANDARD
TZOFFSETFROM:+0200
TZOFFSETTO:+0100
TZNAME:CET
DTSTART:20251026T010000
END:STANDARD
BEGIN:DAYLIGHT
TZOFFSETFROM:+0100
TZOFFSETTO:+0200
TZNAME:CEST
DTSTART:20260329T010000
END:DAYLIGHT
BEGIN:STANDARD
TZOFFSETFROM:+0200
TZOFFSETTO:+0100
TZNAME:CET
DTSTART:20261025T010000
END:STANDARD
BEGIN:DAYLIGHT
TZOFFSETFROM:+0100
TZOFFSETTO:+0200
TZNAME:CEST
DTSTART:20270328T010000
END:DAYLIGHT
BEGIN:STANDARD
TZOFFSETFROM:+0200
TZOFFSETTO:+0100
TZNAME:CET
DTSTART:20271031T010000
END:STANDARD
END:VTIMEZONE
BEGIN:VEVENT
DTSTART;TZID=Europe/Berlin:20260320T203000
DTEND;TZID=Europe/Berlin:20260320T230000
DTSTAMP:20260421T114903
CREATED:20251020T151320Z
LAST-MODIFIED:20251230T125414Z
UID:10000654-1774038600-1774047600@jazzindermitte.de
SUMMARY:Friday JAZZ JAM – FUNK & FUSION
DESCRIPTION:Leitung: Uli Göring \nBesetzung:\nMarvin Schäfer (git)\nFlorian Tekale (keys)\nJoachim Fritz (b)\nUli Göhring (dr) \n— Eintritt frei —
URL:https://jazzindermitte.de/veranstaltung/friday-jazz-jam-funk-fusion-28
LOCATION:IN DER MITTE\, Gartenstraße 36\, Reutlingen\, 72764\, Deutschland
ATTACH;FMTTYPE=image/jpeg:https://jazzindermitte.de/wp-content/uploads/2025/04/20250321_215512-scaled-e1767099242886.jpg
ORGANIZER;CN="JAZZclub IN DER MITTE":MAILTO:info@jazzindermitte.de
END:VEVENT
END:VCALENDAR