BEGIN:VCALENDAR
VERSION:2.0
PRODID:-//JAZZclub IN DER MITTE e.V. - ECPv6.15.20//NONSGML v1.0//EN
CALSCALE:GREGORIAN
METHOD:PUBLISH
X-WR-CALNAME:JAZZclub IN DER MITTE e.V.
X-ORIGINAL-URL:https://jazzindermitte.de
X-WR-CALDESC:Veranstaltungen für JAZZclub IN DER MITTE e.V.
REFRESH-INTERVAL;VALUE=DURATION:PT1H
X-Robots-Tag:noindex
X-PUBLISHED-TTL:PT1H
BEGIN:VTIMEZONE
TZID:Europe/Berlin
BEGIN:DAYLIGHT
TZOFFSETFROM:+0100
TZOFFSETTO:+0200
TZNAME:CEST
DTSTART:20250330T010000
END:DAYLIGHT
BEGIN:STANDARD
TZOFFSETFROM:+0200
TZOFFSETTO:+0100
TZNAME:CET
DTSTART:20251026T010000
END:STANDARD
BEGIN:DAYLIGHT
TZOFFSETFROM:+0100
TZOFFSETTO:+0200
TZNAME:CEST
DTSTART:20260329T010000
END:DAYLIGHT
BEGIN:STANDARD
TZOFFSETFROM:+0200
TZOFFSETTO:+0100
TZNAME:CET
DTSTART:20261025T010000
END:STANDARD
BEGIN:DAYLIGHT
TZOFFSETFROM:+0100
TZOFFSETTO:+0200
TZNAME:CEST
DTSTART:20270328T010000
END:DAYLIGHT
BEGIN:STANDARD
TZOFFSETFROM:+0200
TZOFFSETTO:+0100
TZNAME:CET
DTSTART:20271031T010000
END:STANDARD
END:VTIMEZONE
BEGIN:VEVENT
DTSTART;TZID=Europe/Berlin:20260319T193000
DTEND;TZID=Europe/Berlin:20260319T230000
DTSTAMP:20260421T120908
CREATED:20251020T151031Z
LAST-MODIFIED:20260215T102140Z
UID:10000653-1773948600-1773961200@jazzindermitte.de
SUMMARY:Jazzfrühling | QUARTETTO MAGRITTE
DESCRIPTION:Nach über 900 Auftritten in ganz Europa hat sich das Quartetto Magritte über drei Jahrzehnte hinweg kontinuierlich weiterentwickelt und neu erfunden – mit einer fesselnden Mischung aus Jazz\, Tango und Rumba\, inspiriert von Magrittes Gemälden. Das Quartetto Magritte wurde 1993 in Bologna vom Komponisten\, Pianisten und Akkordeonisten Maurizio Minardi gegründet. Ihr Debütalbum Le Vacanze di Hegel (1997) vereinte Tango\, Habanera\, Jazz\, Barock und Minimalismus.. Das Quartetto Magritte bereitet derzeit ein neues Album im Stil von Jazz & World Music vor. \nBesetzung:\nMaurizio Minardi (acc\, p\, comp)\nBarthélémy Seyer (git)\nJonathan Edo (dr\, perc)\nMaurizio Congiu (double b) \nEintritt 22 € / Mitglieder 15 € / Schüler:innen\, Studierende 5 € \n \nHomepage\nFacebook\nInstagram\nYouTube \n 
URL:https://jazzindermitte.de/veranstaltung/quartetto-magritte
LOCATION:IN DER MITTE\, Gartenstraße 36\, Reutlingen\, 72764\, Deutschland
ATTACH;FMTTYPE=image/png:https://jazzindermitte.de/wp-content/uploads/2025/10/260319-Quartetto-Magritte-1-c-free-copyright-mit-credit.png
ORGANIZER;CN="JAZZclub IN DER MITTE":MAILTO:info@jazzindermitte.de
END:VEVENT
END:VCALENDAR