BEGIN:VCALENDAR
VERSION:2.0
PRODID:-//JAZZclub IN DER MITTE e.V. - ECPv6.15.20//NONSGML v1.0//EN
CALSCALE:GREGORIAN
METHOD:PUBLISH
X-ORIGINAL-URL:https://jazzindermitte.de
X-WR-CALDESC:Veranstaltungen für JAZZclub IN DER MITTE e.V.
REFRESH-INTERVAL;VALUE=DURATION:PT1H
X-Robots-Tag:noindex
X-PUBLISHED-TTL:PT1H
BEGIN:VTIMEZONE
TZID:Europe/Berlin
BEGIN:DAYLIGHT
TZOFFSETFROM:+0100
TZOFFSETTO:+0200
TZNAME:CEST
DTSTART:20250330T010000
END:DAYLIGHT
BEGIN:STANDARD
TZOFFSETFROM:+0200
TZOFFSETTO:+0100
TZNAME:CET
DTSTART:20251026T010000
END:STANDARD
BEGIN:DAYLIGHT
TZOFFSETFROM:+0100
TZOFFSETTO:+0200
TZNAME:CEST
DTSTART:20260329T010000
END:DAYLIGHT
BEGIN:STANDARD
TZOFFSETFROM:+0200
TZOFFSETTO:+0100
TZNAME:CET
DTSTART:20261025T010000
END:STANDARD
BEGIN:DAYLIGHT
TZOFFSETFROM:+0100
TZOFFSETTO:+0200
TZNAME:CEST
DTSTART:20270328T010000
END:DAYLIGHT
BEGIN:STANDARD
TZOFFSETFROM:+0200
TZOFFSETTO:+0100
TZNAME:CET
DTSTART:20271031T010000
END:STANDARD
END:VTIMEZONE
BEGIN:VEVENT
DTSTART;TZID=Europe/Berlin:20260225T193000
DTEND;TZID=Europe/Berlin:20260225T230000
DTSTAMP:20260421T114944
CREATED:20251126T091711Z
LAST-MODIFIED:20260113T110726Z
UID:10000667-1772047800-1772060400@jazzindermitte.de
SUMMARY:VINYL-ABEND   ... der Dritte
DESCRIPTION:Wie fing das damals alles an IN DER MITTE?\nAls 1962 in Reutlingen der Jazzclub das Licht der Jazzwelt erblickte\, hatte der Studentenclub „IN DER MITTE e.V.“ in der Museumsstraße ein Zuhause bekommen.\nWelche Musik\, welche Bands spielten damals im Jazzkeller?\nDurch das Dixie Revival in den 60er Jahren hatten viele Musiker die Gelegenheit\, wieder auf die Bühne zu gehen und das Publikum zu begeistern.\nEin Streifzug durch die 60er Jahre mit „Chris Barber“\, „Mr. Acker Bilk“\, „Dutch Swing College Band“\, „Tante Fridas Jazzkränzchen“ und vielen mehr … sie alle gaben sich in den Anfangsjahren im Jazzclub die Ehre.\nClemens Wittel\, Urgestein der MITTE\, wird diese Zeit mit Geschichten\, Anekdoten und viel Heiterem wieder lebendig werden lassen.\nDie Musik dazu kommt von den entstaubten\, gewaschenen Schallplatten und eventuell … \nGünther und Clemens freuen sich auf diesen ganz besonderen Vinyl-Abend mit Ihnen. \nLeitung: Günther Mrowietz\nSpecial Guest: Clemens Wittel \n— Eintritt frei —
URL:https://jazzindermitte.de/veranstaltung/vinyl-abend-der-dritte
LOCATION:IN DER MITTE\, Gartenstraße 36\, Reutlingen\, 72764\, Deutschland
ATTACH;FMTTYPE=image/jpeg:https://jazzindermitte.de/wp-content/uploads/2025/11/Vinyl-3-scaled-e1767101735712.jpeg
ORGANIZER;CN="JAZZclub IN DER MITTE":MAILTO:info@jazzindermitte.de
END:VEVENT
END:VCALENDAR