BEGIN:VCALENDAR
VERSION:2.0
PRODID:-//JAZZclub IN DER MITTE e.V. - ECPv6.15.20//NONSGML v1.0//EN
CALSCALE:GREGORIAN
METHOD:PUBLISH
X-WR-CALNAME:JAZZclub IN DER MITTE e.V.
X-ORIGINAL-URL:https://jazzindermitte.de
X-WR-CALDESC:Veranstaltungen für JAZZclub IN DER MITTE e.V.
REFRESH-INTERVAL;VALUE=DURATION:PT1H
X-Robots-Tag:noindex
X-PUBLISHED-TTL:PT1H
BEGIN:VTIMEZONE
TZID:Europe/Berlin
BEGIN:DAYLIGHT
TZOFFSETFROM:+0100
TZOFFSETTO:+0200
TZNAME:CEST
DTSTART:20250330T010000
END:DAYLIGHT
BEGIN:STANDARD
TZOFFSETFROM:+0200
TZOFFSETTO:+0100
TZNAME:CET
DTSTART:20251026T010000
END:STANDARD
BEGIN:DAYLIGHT
TZOFFSETFROM:+0100
TZOFFSETTO:+0200
TZNAME:CEST
DTSTART:20260329T010000
END:DAYLIGHT
BEGIN:STANDARD
TZOFFSETFROM:+0200
TZOFFSETTO:+0100
TZNAME:CET
DTSTART:20261025T010000
END:STANDARD
BEGIN:DAYLIGHT
TZOFFSETFROM:+0100
TZOFFSETTO:+0200
TZNAME:CEST
DTSTART:20270328T010000
END:DAYLIGHT
BEGIN:STANDARD
TZOFFSETFROM:+0200
TZOFFSETTO:+0100
TZNAME:CET
DTSTART:20271031T010000
END:STANDARD
END:VTIMEZONE
BEGIN:VEVENT
DTSTART;TZID=Europe/Berlin:20260219T193000
DTEND;TZID=Europe/Berlin:20260219T230000
DTSTAMP:20260421T103432
CREATED:20251204T095332Z
LAST-MODIFIED:20260204T151458Z
UID:10000668-1771529400-1771542000@jazzindermitte.de
SUMMARY:SARAH HANAHAN & FREDERIK VILLMOW QUARTET
DESCRIPTION:Der in Oslo lebende Schlagzeuger und Komponist Frederik Villmow hat eine neue erstklassige Band zusammengestellt – mit der New Yorker Saxofonistin Sarah Hanahan als besonderem Gast.\nDieses neue Quartett markiert nun ein spannendes Kapitel in seiner künstlerischen Laufbahn.\nDiesmal wird er von einer der gefragtesten Musikerinnen der heutigen New Yorker Jazzszene begleitet: Sarah Hanahan. Im Jahr 2025 wurde sie von DownBeat Magazine zur #1 Rising Star on Alto Saxophone gekürt und hat sich rasch als eine der gefragtesten Musikerinnen im Jazz etabliert. Ihr gefeiertes Album ‘Among Giants’ (feat. Jeff “Tain” Watts) erhielt eine 5-Sterne-Bewertung von DownBeat und wurde zu einem der Besten Alben des Jahres gewählt.\nHanahans Spiel zeichnet sich durch ihre tiefe Hingabe an die Musik\, ihre enorme Energie und außergewöhnliche Virtuosität aus. Im Laufe ihrer Karriere trat sie mit renommierten Künstler*innen wie Joe Farnsworth\, Emmet Cohen\, Dee Dee Bridgewater\, Jeff “Tain” Watts und der Grammy-prämierten Mingus Big Band auf. Sie ist regelmäßig in führenden New Yorker Jazzclubs wie Dizzy’s Club (Jazz at Lincoln Center)\, Smalls und Birdland zu hören und tourt ausgiebig durch die USA – und nun auch durch Europa.\nGemeinsam präsentieren Frederik Villmow – mit Joan Fort an der Gitarre & Philip Lewin am Bass – sowie Special Guest Sarah Hanahan ein Programm mit Kompositionen von Sarah Hanahan & Frederik Villmow\, ergänzt durch ausgewählte Stücke bedeutender Jazzkomponisten\, bereichert durch Hanahans meisterhaftes Spiel. \nSARAH HANAHAN (1997) gehört zu den spannendsten Talenten und gefragtesten Musiker:innen der New Yorker Jazzszene. Von DownBeat Magazine wurde sie 2025 zur #1 Rising Star Alto Saxophonistin gewählt. Ihr Album “Among Giants” (mit Jeff “Tain” Watts) erhielt eine herausragende 5-Sterne-Rezension im DownBeat Magazine und wurde als eines der besten Alben des Jahres ausgezeichnet. Ihre Spielweise zeichnet sich durch ihre Hingabe zur Musik und ihre hohe Energie & Virtuosität aus. Sarah Hanahan spielt u. a. mit renommierten Namen wie Joe Farnsworth\, Emmet Cohen\, Peter Martin\, Dee Dee Bridgewater\, Jeff “Tain” Watts und der mit dem Grammy-Award ausgezeichneten Mingus Big Band und tritt regelmäßig in renommierten New Yorker Jazzclubs wie Dizzy’s Jazz At Lincoln Center\, Smalls und Birdland auf und ist auch regelmäßig auf Tourneen durch die USA und jetzt auch in Europa zu erleben. Homepage Sarah Hanahan \nJOAN FORT (1997) ist ein spanischer Gitarrist und Komponist mit Wohnsitz in Amsterdam (NL). Im Laufe seiner Karriere trat er mit international renommierten Musiker:innen wie Jeremy Pelt\, Vincent Herring\, Dick Oatts\, Grant Stewart\, Jorge Rossy\, David Wong\, Benjamin Herman\, Michael Weiss\, Jasper Blom\, Rita Payés und Virginia MacDonald auf.\nMit seinem Co-Leader-Projekt The Dam Jawn veröffentlichte er zwei von der Kritik gefeierte Alben – “Master Street” und “Forward!” – beide mit dem legendären New Yorker Saxofonisten Dick Oatts. “Master Street” wurde für den renommierten Edison Jazz Award nominiert. 2024 trat Joan mit The Dam Jawn auf dem North Sea Jazz Festival auf\, mit Jeremy Pelt als Special Guest. Im Januar 2025 erschien Joans Debütalbum als Bandleader: “So Far\, So Good” (2025)\, welches mit einer umfassenden Europatournee präsentiert wurde. Er spielt auf renommierten Festivals und Bühnen\, darunter dem North Sea Jazz Festival (NL)\, Chris’ Jazz Café (USA)\, Bimhuis (NL) und dem Internationalen Jazzfestival Barcelona (SP). Homepage Joan Fort \n \nPHILIP LEWIN\, geboren in Stuttgart\, lebt der Bassist Philip Lewin heute in Amsterdam. Er studierte Bass an der Hochschule für Musik Nürnberg\, Codarts Rotterdam\, dem Conservatorium van Amsterdam und der Temple University in Philadelphia\, unter anderem bei Marius Beets\, Frans van der Hoeven und David Wong. Als Sideman trat Philip mit international renommierten Jazzgrößen wie Vincent Herring\, Bob Mintzer\, Jeremy Pelt\, Dick Oatts und der WDR Big Band auf\, nahm mit ihnen auf und ging auf Tournee. Er ist festes Mitglied mehrerer regelmäßig auftretender Ensembles\, darunter das Joan Fort Trio\, das Ben Fitzpatrick & Johan Hörlen Quintet und The Dam Jawn. Homepage Philip Lewin \n \nFREDERIK VILLMOW (1993) ist ein Jazz-Schlagzeuger aus Köln\, Deutschland\, der heute in Oslo (Norwegen) lebt. Er tourte durch Skandinavien und Europa mit eigenen Bands sowie mit bekannten Musiker:innen wie Eric Alexander\, Tomas Franck\, Carl Winther und der Mats Holmquist Big Band. Er veröffentlichte bisher fünf Alben als Bandleader\, darunter Aufnahmen mit führenden New Yorker Jazzmusikern wie Nicole Glover\, David Kikoski und Alexander Claffy\, sowie ein viel beachtetes Live-Album aus dem legendären Jazzhus Montmartre in Kopenhagen (feat. Carl Winther & Tomas Franck).\nTourneen führten ihn u. a. in die Vereinigten Arabischen Emirate\, Kuwait\, England\, Irland\, Finnland\, Island\, Estland\, Griechenland\, Frankreich\, Belgien\, die Niederlande\, Deutschland\, Polen\, Schweden\, Dänemark und Norwegen.\nSeine Alben erhielten durchweg positive Resonanz in der internationalen Fachpresse\, u. a. in Japan Jazz Magazine\, Jazz Life Japan\, Jazzthing (Deutschland)\, JazzDK und UK Vibe. Homepage Frederik Villmow \nEintritt 19 € / Mitglieder 12 € / Schüler:innen\, Studierende 5 €
URL:https://jazzindermitte.de/veranstaltung/sarah-hanahan-frederik-villmow-quartet
LOCATION:IN DER MITTE\, Gartenstraße 36\, Reutlingen\, 72764\, Deutschland
ATTACH;FMTTYPE=image/jpeg:https://jazzindermitte.de/wp-content/uploads/2025/12/260219-Hauptfoto-Sarah-Hanahan-Frederik-Villmow-Quartet-PR-FOTO-c-Meredith-Truax-Sarah-_-Joakim-Haga-Frederik-mit-credit.jpg
ORGANIZER;CN="JAZZclub IN DER MITTE":MAILTO:info@jazzindermitte.de
END:VEVENT
END:VCALENDAR