BEGIN:VCALENDAR
VERSION:2.0
PRODID:-//JAZZclub IN DER MITTE e.V. - ECPv6.15.20//NONSGML v1.0//EN
CALSCALE:GREGORIAN
METHOD:PUBLISH
X-ORIGINAL-URL:https://jazzindermitte.de
X-WR-CALDESC:Veranstaltungen für JAZZclub IN DER MITTE e.V.
REFRESH-INTERVAL;VALUE=DURATION:PT1H
X-Robots-Tag:noindex
X-PUBLISHED-TTL:PT1H
BEGIN:VTIMEZONE
TZID:Europe/Berlin
BEGIN:DAYLIGHT
TZOFFSETFROM:+0100
TZOFFSETTO:+0200
TZNAME:CEST
DTSTART:20250330T010000
END:DAYLIGHT
BEGIN:STANDARD
TZOFFSETFROM:+0200
TZOFFSETTO:+0100
TZNAME:CET
DTSTART:20251026T010000
END:STANDARD
BEGIN:DAYLIGHT
TZOFFSETFROM:+0100
TZOFFSETTO:+0200
TZNAME:CEST
DTSTART:20260329T010000
END:DAYLIGHT
BEGIN:STANDARD
TZOFFSETFROM:+0200
TZOFFSETTO:+0100
TZNAME:CET
DTSTART:20261025T010000
END:STANDARD
BEGIN:DAYLIGHT
TZOFFSETFROM:+0100
TZOFFSETTO:+0200
TZNAME:CEST
DTSTART:20270328T010000
END:DAYLIGHT
BEGIN:STANDARD
TZOFFSETFROM:+0200
TZOFFSETTO:+0100
TZNAME:CET
DTSTART:20271031T010000
END:STANDARD
END:VTIMEZONE
BEGIN:VEVENT
DTSTART;TZID=Europe/Berlin:20260214T200000
DTEND;TZID=Europe/Berlin:20260214T230000
DTSTAMP:20260421T103727
CREATED:20251221T100255Z
LAST-MODIFIED:20251230T133047Z
UID:10000669-1771099200-1771110000@jazzindermitte.de
SUMMARY:COSTA DEL SOUL & THE MASTERHORNS
DESCRIPTION:Zehn hervorragende Musiker und Musikerinnen de la région\, gelandet an der musikalischen Traumküste in der MITTE in Reutlingen. Statt irdischem Narri & Narro bringen sie kosmischen Soul & Funk mit special guest Uli Gutscher an der Posaune und zwei gewonnenen Stimm-Vulkanen der Backnanger Milchstraße! Also raus aus der Hängematte und ab auf die imaginäre Tanzfläche. Ein raffiniert gemixter Sound-Cocktail inklusive Sonnenuntergangs- feeling\, verfeinert mit einem gehörigen Schuss guter Laune. Songs von u.a.: Chaka Khan\, Earth Wind & Fire\, Incognito\, Stevie Wonder\, Tower of Power\, Nils Landgren\, Jamiroquai und dergleichen mehr … \nBesetzung:\nWolf-Dieter Rahn (voc)\nRebecca Hart (voc)\nAnja Seifert (voc)\nDaniel Zenker (git)\nThomas Haditsch (Keys)\nThomas Thumm (b)\nJochen Strähle (dr)\nKlaus Werz (tp)\nWolfang Thiele (t-sax)\nSpecial-Guest: Uli Gutscher (tb) \nEintritt 19 € / Mitglieder 12 € / Schüler:innen\, Studierende 5 €
URL:https://jazzindermitte.de/veranstaltung/costa-del-soul-the-masterhorns
LOCATION:IN DER MITTE\, Gartenstraße 36\, Reutlingen\, 72764\, Deutschland
ATTACH;FMTTYPE=image/jpeg:https://jazzindermitte.de/wp-content/uploads/2025/12/260214-Costa-del-Soul2-c-Gottfried-Hess-mit-credit-scaled-e1767101441863.jpg
ORGANIZER;CN="JAZZclub IN DER MITTE":MAILTO:info@jazzindermitte.de
END:VEVENT
END:VCALENDAR